BEGIN:VCALENDAR
VERSION:2.0
PRODID:-//Orlando Ballet - ECPv6.15.3//NONSGML v1.0//EN
CALSCALE:GREGORIAN
METHOD:PUBLISH
X-WR-CALNAME:Orlando Ballet
X-ORIGINAL-URL:https://orlandoballet.org
X-WR-CALDESC:Events for Orlando Ballet
REFRESH-INTERVAL;VALUE=DURATION:PT1H
X-Robots-Tag:noindex
X-PUBLISHED-TTL:PT1H
BEGIN:VTIMEZONE
TZID:America/New_York
BEGIN:DAYLIGHT
TZOFFSETFROM:-0500
TZOFFSETTO:-0400
TZNAME:EDT
DTSTART:20250309T070000
END:DAYLIGHT
BEGIN:STANDARD
TZOFFSETFROM:-0400
TZOFFSETTO:-0500
TZNAME:EST
DTSTART:20251102T060000
END:STANDARD
END:VTIMEZONE
BEGIN:VEVENT
DTSTART;TZID=America/New_York:20250915T154500
DTEND;TZID=America/New_York:20250915T171500
DTSTAMP:20260423T015652
CREATED:20250911T133520Z
LAST-MODIFIED:20260128T181441Z
UID:10000136-1757951100-1757956500@orlandoballet.org
SUMMARY:STEPS @ Lake Como School
DESCRIPTION:Fall Session: September 8th-November 17th (no class October 13th)\nSpring Session: January 26th-April 13th  (no class February 16th or March 16th)
URL:https://orlandoballet.org/event/steps-lake-como-school/2025-09-15/
LOCATION:Community Enrichment\, United States
CATEGORIES:Community Programs
END:VEVENT
BEGIN:VEVENT
DTSTART;TZID=America/New_York:20250915T153000
DTEND;TZID=America/New_York:20250915T170000
DTSTAMP:20260423T015652
CREATED:20250911T133521Z
LAST-MODIFIED:20250911T143309Z
UID:10000533-1757950200-1757955600@orlandoballet.org
SUMMARY:STEPS @ Waterbridge Elementary
DESCRIPTION:No class October 13th or November 24th
URL:https://orlandoballet.org/event/steps-waterbridge-elementary/2025-09-15/
LOCATION:Community Enrichment\, United States
CATEGORIES:Community Programs
END:VEVENT
BEGIN:VEVENT
DTSTART;TZID=America/New_York:20250915T153000
DTEND;TZID=America/New_York:20250915T170000
DTSTAMP:20260423T015652
CREATED:20250911T133519Z
LAST-MODIFIED:20260128T181441Z
UID:10000201-1757950200-1757955600@orlandoballet.org
SUMMARY:STEPS @ Kissimmee Elementary
DESCRIPTION:Fall Session: September 15th-December 1st (no class 10/13 & 11/24) \nSpring Session: January 26th- April 6th (no class 3/16)
URL:https://orlandoballet.org/event/steps-kissimmee-elementary/2025-09-15/
LOCATION:Community Enrichment\, United States
CATEGORIES:Community Programs
END:VEVENT
BEGIN:VEVENT
DTSTART;TZID=America/New_York:20250913T090000
DTEND;TZID=America/New_York:20250913T094500
DTSTAMP:20260423T015652
CREATED:20250911T133508Z
LAST-MODIFIED:20260128T181429Z
UID:10000919-1757754000-1757756700@orlandoballet.org
SUMMARY:Come Dance with Us! Ages 3-9 at HOBC
DESCRIPTION:This unique class provides training in creative dance\, ballet\, and jazz basics to children with various developmental\, behavioral\, and/or physical challenges. Each student is paired with a student mentor from the Orlando Ballet School for a more collaborative dance experience.  \nClass meets on Saturdays from 9:00-9:45am\, August 23rd-May 9th\nClass fee: $55 monthly. Tuition billed on the 15th of the month\, August-April\nShowcase Fee: $105\, fee will be posted upon enrollment and will be processed on November 1st. If you wish to opt out of the showcase\, please email registrar@orlandoballet.org.\nClass is located at HOBC\, 600 N Lake Formosa Dr. Orlando FL\, 32803.
URL:https://orlandoballet.org/event/come-dance-with-us-ages-3-9-at-hobc/2025-09-13/
LOCATION:Community Enrichment\, United States
CATEGORIES:Community Programs
END:VEVENT
BEGIN:VEVENT
DTSTART;TZID=America/New_York:20250912T153000
DTEND;TZID=America/New_York:20250912T170000
DTSTAMP:20260423T015652
CREATED:20250911T133521Z
LAST-MODIFIED:20260128T181441Z
UID:10000231-1757691000-1757696400@orlandoballet.org
SUMMARY:STEPS @ Sand Lake Elementary
DESCRIPTION:Fall Session: September 12th-November 14th \nSpring Session: January 30th-April 17th (no class March 13th or 20th)
URL:https://orlandoballet.org/event/steps-sand-lake-elementary/2025-09-12/
LOCATION:Community Enrichment\, United States
CATEGORIES:Community Programs
END:VEVENT
BEGIN:VEVENT
DTSTART;TZID=America/New_York:20250911T163000
DTEND;TZID=America/New_York:20250911T171500
DTSTAMP:20260423T015652
CREATED:20250911T133515Z
LAST-MODIFIED:20250911T143308Z
UID:10000263-1757608200-1757610900@orlandoballet.org
SUMMARY:Come Dance with Us! @ UCP West Orange
DESCRIPTION:
URL:https://orlandoballet.org/event/come-dance-with-us-ucp-west-orange-2/2025-09-11/
LOCATION:Community Enrichment\, United States
CATEGORIES:Community Programs
END:VEVENT
BEGIN:VEVENT
DTSTART;TZID=America/New_York:20250911T154500
DTEND;TZID=America/New_York:20250911T163000
DTSTAMP:20260423T015652
CREATED:20250911T133515Z
LAST-MODIFIED:20250911T143308Z
UID:10000273-1757605500-1757608200@orlandoballet.org
SUMMARY:Come Dance with Us! @ UCP West Orange
DESCRIPTION:
URL:https://orlandoballet.org/event/come-dance-with-us-ucp-west-orange/2025-09-11/
LOCATION:Community Enrichment\, United States
CATEGORIES:Community Programs
END:VEVENT
BEGIN:VEVENT
DTSTART;TZID=America/New_York:20250911T153000
DTEND;TZID=America/New_York:20250911T170000
DTSTAMP:20260423T015652
CREATED:20250911T133520Z
LAST-MODIFIED:20260128T181441Z
UID:10000548-1757604600-1757610000@orlandoballet.org
SUMMARY:STEPS @ Maxey Elementary
DESCRIPTION:Fall Session- 9/4/25-11/6/25\nSpring Session- 1/29/16-4/9/26
URL:https://orlandoballet.org/event/steps-maxey-elementary/2025-09-11/
LOCATION:Community Enrichment\, United States
CATEGORIES:Community Programs
END:VEVENT
BEGIN:VEVENT
DTSTART;TZID=America/New_York:20250911T124500
DTEND;TZID=America/New_York:20250911T141500
DTSTAMP:20260423T015652
CREATED:20250911T133507Z
LAST-MODIFIED:20250911T143308Z
UID:10000283-1757594700-1757600100@orlandoballet.org
SUMMARY:STEPS @ Thomas Leadership Academy
DESCRIPTION:
URL:https://orlandoballet.org/event/steps-thomas-leadership-academy/2025-09-11/
LOCATION:Community Enrichment\, United States
CATEGORIES:Community Programs
END:VEVENT
BEGIN:VEVENT
DTSTART;TZID=America/New_York:20250910T160000
DTEND;TZID=America/New_York:20250910T173000
DTSTAMP:20260423T015652
CREATED:20250911T133521Z
LAST-MODIFIED:20260128T181441Z
UID:10000580-1757520000-1757525400@orlandoballet.org
SUMMARY:STEPS @ Wadeview Neighborhood Center
DESCRIPTION:Fall Session: September 3rd-November 5th\nSpring Session: January 28th-April 8th\, no class during spring break\nShowcase on April 26th\, at Harriett’s Orlando Ballet Centre
URL:https://orlandoballet.org/event/steps-wadeview-neighborhood-center/2025-09-10/
LOCATION:Community Enrichment\, United States
CATEGORIES:Community Programs
END:VEVENT
BEGIN:VEVENT
DTSTART;TZID=America/New_York:20250910T150000
DTEND;TZID=America/New_York:20250910T163000
DTSTAMP:20260423T015652
CREATED:20250911T133521Z
LAST-MODIFIED:20250911T143308Z
UID:10000297-1757516400-1757521800@orlandoballet.org
SUMMARY:STEPS @ Rock Lake Elementary
DESCRIPTION:No class the week of Thanksgiving
URL:https://orlandoballet.org/event/steps-rock-lake-elementary/2025-09-10/
LOCATION:Community Enrichment\, United States
CATEGORIES:Community Programs
END:VEVENT
BEGIN:VEVENT
DTSTART;TZID=America/New_York:20250910T150000
DTEND;TZID=America/New_York:20250910T163000
DTSTAMP:20260423T015652
CREATED:20250911T133519Z
LAST-MODIFIED:20260128T181440Z
UID:10000646-1757516400-1757521800@orlandoballet.org
SUMMARY:STEPS @ Colonialtown Neighborhood Center
DESCRIPTION:Fall Session: August 27th-October 29th\nSpring Session: January 28th-April 8th\, no class the week of spring break
URL:https://orlandoballet.org/event/steps-colonialtown-neighborhood-center/2025-09-10/
LOCATION:Community Enrichment\, United States
CATEGORIES:Community Programs
END:VEVENT
BEGIN:VEVENT
DTSTART;TZID=America/New_York:20250910T150000
DTEND;TZID=America/New_York:20250910T163000
DTSTAMP:20260423T015652
CREATED:20250911T133519Z
LAST-MODIFIED:20260128T181441Z
UID:10000612-1757516400-1757521800@orlandoballet.org
SUMMARY:STEPS @ Ivey Lane Neighborhood Center
DESCRIPTION:Fall: September 3rd-November 5th\nSpring: February 4th- April 15th\, no class the week of spring break (March 16th-20th) and final showcase at Harriett’s Orlando Ballet Centre on April 26th
URL:https://orlandoballet.org/event/steps-ivey-lane-neighborhood-center/2025-09-10/
LOCATION:Community Enrichment\, United States
CATEGORIES:Community Programs
END:VEVENT
BEGIN:VEVENT
DTSTART;TZID=America/New_York:20250910T143000
DTEND;TZID=America/New_York:20250910T160000
DTSTAMP:20260423T015652
CREATED:20250911T133522Z
LAST-MODIFIED:20250911T143308Z
UID:10000311-1757514600-1757520000@orlandoballet.org
SUMMARY:STEPS @ Whispering Oak Elementary
DESCRIPTION:No class during Thanksgiving Break
URL:https://orlandoballet.org/event/steps-whispering-oak-elementary/2025-09-10/
LOCATION:Community Enrichment\, United States
CATEGORIES:Community Programs
END:VEVENT
BEGIN:VEVENT
DTSTART;TZID=America/New_York:20250910T143000
DTEND;TZID=America/New_York:20250910T160000
DTSTAMP:20260423T015652
CREATED:20250911T133520Z
LAST-MODIFIED:20250911T143308Z
UID:10000325-1757514600-1757520000@orlandoballet.org
SUMMARY:STEPS @ Orlo Vista Elementary
DESCRIPTION:No class the week of Thanksgiving
URL:https://orlandoballet.org/event/steps-orlo-vista-elementary/2025-09-10/
LOCATION:Community Enrichment\, United States
CATEGORIES:Community Programs
END:VEVENT
BEGIN:VEVENT
DTSTART;TZID=America/New_York:20250910T143000
DTEND;TZID=America/New_York:20250910T160000
DTSTAMP:20260423T015653
CREATED:20250911T133518Z
LAST-MODIFIED:20250911T143309Z
UID:10000353-1757514600-1757520000@orlandoballet.org
SUMMARY:STEPS @ Andover Elementary
DESCRIPTION:No class during Thanksgiving Break
URL:https://orlandoballet.org/event/steps-andover-elementary/2025-09-10/
LOCATION:Community Enrichment\, United States
CATEGORIES:Community Programs
END:VEVENT
BEGIN:VEVENT
DTSTART;TZID=America/New_York:20250910T143000
DTEND;TZID=America/New_York:20250910T160000
DTSTAMP:20260423T015653
CREATED:20250911T133518Z
LAST-MODIFIED:20250911T143309Z
UID:10000339-1757514600-1757520000@orlandoballet.org
SUMMARY:STEPS @ Aloma Elementary
DESCRIPTION:No class during Thanksgiving Break
URL:https://orlandoballet.org/event/steps-aloma-elementary/2025-09-10/
LOCATION:Community Enrichment\, United States
CATEGORIES:Community Programs
END:VEVENT
BEGIN:VEVENT
DTSTART;TZID=America/New_York:20250909T153000
DTEND;TZID=America/New_York:20250909T170000
DTSTAMP:20260423T015653
CREATED:20250911T133521Z
LAST-MODIFIED:20250911T143309Z
UID:10000367-1757431800-1757437200@orlandoballet.org
SUMMARY:STEPS @ Tildenville Elementary
DESCRIPTION:No class during Thanksgiving Break
URL:https://orlandoballet.org/event/steps-tildenville-elementary/2025-09-09/
LOCATION:Community Enrichment\, United States
CATEGORIES:Community Programs
END:VEVENT
BEGIN:VEVENT
DTSTART;TZID=America/New_York:20250909T153000
DTEND;TZID=America/New_York:20250909T170000
DTSTAMP:20260423T015653
CREATED:20250911T133519Z
LAST-MODIFIED:20260128T181441Z
UID:10000381-1757431800-1757437200@orlandoballet.org
SUMMARY:STEPS @ Endeavor Elementary
DESCRIPTION:Fall Session: September 9th-November 11th \nSpring Session: January 27th-April 7th (no class March 17th)
URL:https://orlandoballet.org/event/steps-endeavor-elementary/2025-09-09/
LOCATION:Community Enrichment\, United States
CATEGORIES:Community Programs
END:VEVENT
BEGIN:VEVENT
DTSTART;TZID=America/New_York:20250909T151500
DTEND;TZID=America/New_York:20250909T161500
DTSTAMP:20260423T015653
CREATED:20250911T133527Z
LAST-MODIFIED:20260128T181448Z
UID:10000412-1757430900-1757434500@orlandoballet.org
SUMMARY:REACH @ Lake Como School
DESCRIPTION:September 9th-December 11th (no class Thanksgiving break) & January 27th-April 30th (no class spring break)
URL:https://orlandoballet.org/event/reach-lake-como-school/2025-09-09/
LOCATION:Community Enrichment\, United States
CATEGORIES:Community Programs
END:VEVENT
BEGIN:VEVENT
DTSTART;TZID=America/New_York:20250909T133000
DTEND;TZID=America/New_York:20250909T143000
DTSTAMP:20260423T015653
CREATED:20250911T133529Z
LAST-MODIFIED:20250911T143309Z
UID:10000679-1757424600-1757428200@orlandoballet.org
SUMMARY:REACH @ Colonial HS
DESCRIPTION:
URL:https://orlandoballet.org/event/reach-colonial-hs/2025-09-09/
LOCATION:Community Enrichment\, United States
CATEGORIES:Community Programs
END:VEVENT
BEGIN:VEVENT
DTSTART;TZID=America/New_York:20250909T101200
DTEND;TZID=America/New_York:20250909T110200
DTSTAMP:20260423T015653
CREATED:20250911T133529Z
LAST-MODIFIED:20260128T181453Z
UID:10000446-1757412720-1757415720@orlandoballet.org
SUMMARY:Come Dance with Us! @ Windermere High School
DESCRIPTION:September 9th-November 11th and January 27th- April 7th (no class spring break)
URL:https://orlandoballet.org/event/come-dance-with-us-windermere-high-school/2025-09-09/
LOCATION:Community Enrichment\, United States
CATEGORIES:Community Programs
END:VEVENT
BEGIN:VEVENT
DTSTART;TZID=America/New_York:20250908T180000
DTEND;TZID=America/New_York:20250908T184500
DTSTAMP:20260423T015653
CREATED:20250911T133526Z
LAST-MODIFIED:20250911T143309Z
UID:10000477-1757354400-1757357100@orlandoballet.org
SUMMARY:Come Dance with Us! Ages 10-16 (Fall) at HOBC
DESCRIPTION:This unique class provides training in creative dance\, ballet\, and jazz basics to children with various developmental\, behavioral\, and/or physical challenges. Each student is paired with a student mentor from the Orlando Ballet School for a more collaborative dance experience.  \nClass meets on Mondays\, September 8th-November 10th\,  6-6:45pm\nClass fee: $135 per semester\nClass is located at HOBC\, 600 N Lake Formosa Dr. Orlando FL\, 32803.
URL:https://orlandoballet.org/event/come-dance-with-us-ages-10-16-fall-at-hobc/2025-09-08/
LOCATION:Community Enrichment\, United States
CATEGORIES:Community Programs
END:VEVENT
BEGIN:VEVENT
DTSTART;TZID=America/New_York:20250908T163000
DTEND;TZID=America/New_York:20250908T180000
DTSTAMP:20260423T015653
CREATED:20250911T133527Z
LAST-MODIFIED:20260128T181448Z
UID:10000487-1757349000-1757354400@orlandoballet.org
SUMMARY:REACH @ Robinswood Middle School
DESCRIPTION:CLASS DATES: Fall Session: September 8th-November 13th\, no class 10/13 or 10/16\n	Spring Session: January 12th-April 2nd\, no classes 1/19 & 1/22\, 2/16 & 2/19\, or spring break (3/16-3/20)\nCLASS TIME: Mondays & Thursdays\, 4:30pm-6:00pm; alternating ballet & an elective class (jazz\, contemporary\, etc)
URL:https://orlandoballet.org/event/reach-robinswood-middle-school/2025-09-08/
LOCATION:Community Enrichment\, United States
CATEGORIES:Community Programs
END:VEVENT
BEGIN:VEVENT
DTSTART;TZID=America/New_York:20250908T160000
DTEND;TZID=America/New_York:20250908T173000
DTSTAMP:20260423T015653
CREATED:20250911T133520Z
LAST-MODIFIED:20250911T143309Z
UID:10000517-1757347200-1757352600@orlandoballet.org
SUMMARY:STEPS @ Mollie Ray Elementary School
DESCRIPTION:No class on September 1st\, October 13th\, or November 24th
URL:https://orlandoballet.org/event/steps-mollie-ray-elementary-school/2025-09-08/
LOCATION:Community Enrichment\, United States
CATEGORIES:Community Programs
END:VEVENT
BEGIN:VEVENT
DTSTART;TZID=America/New_York:20250908T154500
DTEND;TZID=America/New_York:20250908T171500
DTSTAMP:20260423T015653
CREATED:20250911T133520Z
LAST-MODIFIED:20260128T181441Z
UID:10000135-1757346300-1757351700@orlandoballet.org
SUMMARY:STEPS @ Lake Como School
DESCRIPTION:Fall Session: September 8th-November 17th (no class October 13th)\nSpring Session: January 26th-April 13th  (no class February 16th or March 16th)
URL:https://orlandoballet.org/event/steps-lake-como-school/2025-09-08/
LOCATION:Community Enrichment\, United States
CATEGORIES:Community Programs
END:VEVENT
BEGIN:VEVENT
DTSTART;TZID=America/New_York:20250908T153000
DTEND;TZID=America/New_York:20250908T170000
DTSTAMP:20260423T015653
CREATED:20250911T133521Z
LAST-MODIFIED:20250911T143309Z
UID:10000532-1757345400-1757350800@orlandoballet.org
SUMMARY:STEPS @ Waterbridge Elementary
DESCRIPTION:No class October 13th or November 24th
URL:https://orlandoballet.org/event/steps-waterbridge-elementary/2025-09-08/
LOCATION:Community Enrichment\, United States
CATEGORIES:Community Programs
END:VEVENT
BEGIN:VEVENT
DTSTART;TZID=America/New_York:20250906T090000
DTEND;TZID=America/New_York:20250906T094500
DTSTAMP:20260423T015653
CREATED:20250911T133508Z
LAST-MODIFIED:20260128T181429Z
UID:10000918-1757149200-1757151900@orlandoballet.org
SUMMARY:Come Dance with Us! Ages 3-9 at HOBC
DESCRIPTION:This unique class provides training in creative dance\, ballet\, and jazz basics to children with various developmental\, behavioral\, and/or physical challenges. Each student is paired with a student mentor from the Orlando Ballet School for a more collaborative dance experience.  \nClass meets on Saturdays from 9:00-9:45am\, August 23rd-May 9th\nClass fee: $55 monthly. Tuition billed on the 15th of the month\, August-April\nShowcase Fee: $105\, fee will be posted upon enrollment and will be processed on November 1st. If you wish to opt out of the showcase\, please email registrar@orlandoballet.org.\nClass is located at HOBC\, 600 N Lake Formosa Dr. Orlando FL\, 32803.
URL:https://orlandoballet.org/event/come-dance-with-us-ages-3-9-at-hobc/2025-09-06/
LOCATION:Community Enrichment\, United States
CATEGORIES:Community Programs
END:VEVENT
BEGIN:VEVENT
DTSTART;TZID=America/New_York:20250904T153000
DTEND;TZID=America/New_York:20250904T170000
DTSTAMP:20260423T015653
CREATED:20250911T133520Z
LAST-MODIFIED:20260128T181441Z
UID:10000547-1756999800-1757005200@orlandoballet.org
SUMMARY:STEPS @ Maxey Elementary
DESCRIPTION:Fall Session- 9/4/25-11/6/25\nSpring Session- 1/29/16-4/9/26
URL:https://orlandoballet.org/event/steps-maxey-elementary/2025-09-04/
LOCATION:Community Enrichment\, United States
CATEGORIES:Community Programs
END:VEVENT
BEGIN:VEVENT
DTSTART;TZID=America/New_York:20250903T160000
DTEND;TZID=America/New_York:20250903T173000
DTSTAMP:20260423T015653
CREATED:20250911T133521Z
LAST-MODIFIED:20260128T181441Z
UID:10000579-1756915200-1756920600@orlandoballet.org
SUMMARY:STEPS @ Wadeview Neighborhood Center
DESCRIPTION:Fall Session: September 3rd-November 5th\nSpring Session: January 28th-April 8th\, no class during spring break\nShowcase on April 26th\, at Harriett’s Orlando Ballet Centre
URL:https://orlandoballet.org/event/steps-wadeview-neighborhood-center/2025-09-03/
LOCATION:Community Enrichment\, United States
CATEGORIES:Community Programs
END:VEVENT
END:VCALENDAR