BEGIN:VCALENDAR
VERSION:2.0
PRODID:-//Orlando Ballet - ECPv6.15.3//NONSGML v1.0//EN
CALSCALE:GREGORIAN
METHOD:PUBLISH
X-ORIGINAL-URL:https://orlandoballet.org
X-WR-CALDESC:Events for Orlando Ballet
REFRESH-INTERVAL;VALUE=DURATION:PT1H
X-Robots-Tag:noindex
X-PUBLISHED-TTL:PT1H
BEGIN:VTIMEZONE
TZID:America/New_York
BEGIN:DAYLIGHT
TZOFFSETFROM:-0500
TZOFFSETTO:-0400
TZNAME:EDT
DTSTART:20250309T070000
END:DAYLIGHT
BEGIN:STANDARD
TZOFFSETFROM:-0400
TZOFFSETTO:-0500
TZNAME:EST
DTSTART:20251102T060000
END:STANDARD
END:VTIMEZONE
BEGIN:VEVENT
DTSTART;TZID=America/New_York:20250930T151500
DTEND;TZID=America/New_York:20250930T161500
DTSTAMP:20260422T175043
CREATED:20250911T133527Z
LAST-MODIFIED:20260128T181448Z
UID:10000415-1759245300-1759248900@orlandoballet.org
SUMMARY:REACH @ Lake Como School
DESCRIPTION:September 9th-December 11th (no class Thanksgiving break) & January 27th-April 30th (no class spring break)
URL:https://orlandoballet.org/event/reach-lake-como-school/2025-09-30/
LOCATION:Community Enrichment\, United States
CATEGORIES:Community Programs
END:VEVENT
BEGIN:VEVENT
DTSTART;TZID=America/New_York:20250930T133000
DTEND;TZID=America/New_York:20250930T143000
DTSTAMP:20260422T175043
CREATED:20250911T133529Z
LAST-MODIFIED:20250911T143309Z
UID:10000682-1759239000-1759242600@orlandoballet.org
SUMMARY:REACH @ Colonial HS
DESCRIPTION:
URL:https://orlandoballet.org/event/reach-colonial-hs/2025-09-30/
LOCATION:Community Enrichment\, United States
CATEGORIES:Community Programs
END:VEVENT
BEGIN:VEVENT
DTSTART;TZID=America/New_York:20250930T101200
DTEND;TZID=America/New_York:20250930T110200
DTSTAMP:20260422T175043
CREATED:20250911T133529Z
LAST-MODIFIED:20260128T181453Z
UID:10000449-1759227120-1759230120@orlandoballet.org
SUMMARY:Come Dance with Us! @ Windermere High School
DESCRIPTION:September 9th-November 11th and January 27th- April 7th (no class spring break)
URL:https://orlandoballet.org/event/come-dance-with-us-windermere-high-school/2025-09-30/
LOCATION:Community Enrichment\, United States
CATEGORIES:Community Programs
END:VEVENT
BEGIN:VEVENT
DTSTART;TZID=America/New_York:20250929T180000
DTEND;TZID=America/New_York:20250929T184500
DTSTAMP:20260422T175043
CREATED:20250911T133526Z
LAST-MODIFIED:20250911T143309Z
UID:10000480-1759168800-1759171500@orlandoballet.org
SUMMARY:Come Dance with Us! Ages 10-16 (Fall) at HOBC
DESCRIPTION:This unique class provides training in creative dance\, ballet\, and jazz basics to children with various developmental\, behavioral\, and/or physical challenges. Each student is paired with a student mentor from the Orlando Ballet School for a more collaborative dance experience.  \nClass meets on Mondays\, September 8th-November 10th\,  6-6:45pm\nClass fee: $135 per semester\nClass is located at HOBC\, 600 N Lake Formosa Dr. Orlando FL\, 32803.
URL:https://orlandoballet.org/event/come-dance-with-us-ages-10-16-fall-at-hobc/2025-09-29/
LOCATION:Community Enrichment\, United States
CATEGORIES:Community Programs
END:VEVENT
BEGIN:VEVENT
DTSTART;TZID=America/New_York:20250929T163000
DTEND;TZID=America/New_York:20250929T180000
DTSTAMP:20260422T175043
CREATED:20250911T133527Z
LAST-MODIFIED:20260128T181448Z
UID:10000490-1759163400-1759168800@orlandoballet.org
SUMMARY:REACH @ Robinswood Middle School
DESCRIPTION:CLASS DATES: Fall Session: September 8th-November 13th\, no class 10/13 or 10/16\n	Spring Session: January 12th-April 2nd\, no classes 1/19 & 1/22\, 2/16 & 2/19\, or spring break (3/16-3/20)\nCLASS TIME: Mondays & Thursdays\, 4:30pm-6:00pm; alternating ballet & an elective class (jazz\, contemporary\, etc)
URL:https://orlandoballet.org/event/reach-robinswood-middle-school/2025-09-29/
LOCATION:Community Enrichment\, United States
CATEGORIES:Community Programs
END:VEVENT
BEGIN:VEVENT
DTSTART;TZID=America/New_York:20250929T160000
DTEND;TZID=America/New_York:20250929T173000
DTSTAMP:20260422T175043
CREATED:20250911T133520Z
LAST-MODIFIED:20250911T143309Z
UID:10000520-1759161600-1759167000@orlandoballet.org
SUMMARY:STEPS @ Mollie Ray Elementary School
DESCRIPTION:No class on September 1st\, October 13th\, or November 24th
URL:https://orlandoballet.org/event/steps-mollie-ray-elementary-school/2025-09-29/
LOCATION:Community Enrichment\, United States
CATEGORIES:Community Programs
END:VEVENT
BEGIN:VEVENT
DTSTART;TZID=America/New_York:20250929T154500
DTEND;TZID=America/New_York:20250929T171500
DTSTAMP:20260422T175043
CREATED:20250911T133520Z
LAST-MODIFIED:20260128T181441Z
UID:10000138-1759160700-1759166100@orlandoballet.org
SUMMARY:STEPS @ Lake Como School
DESCRIPTION:Fall Session: September 8th-November 17th (no class October 13th)\nSpring Session: January 26th-April 13th  (no class February 16th or March 16th)
URL:https://orlandoballet.org/event/steps-lake-como-school/2025-09-29/
LOCATION:Community Enrichment\, United States
CATEGORIES:Community Programs
END:VEVENT
BEGIN:VEVENT
DTSTART;TZID=America/New_York:20250929T153000
DTEND;TZID=America/New_York:20250929T170000
DTSTAMP:20260422T175043
CREATED:20250911T133521Z
LAST-MODIFIED:20250911T143309Z
UID:10000535-1759159800-1759165200@orlandoballet.org
SUMMARY:STEPS @ Waterbridge Elementary
DESCRIPTION:No class October 13th or November 24th
URL:https://orlandoballet.org/event/steps-waterbridge-elementary/2025-09-29/
LOCATION:Community Enrichment\, United States
CATEGORIES:Community Programs
END:VEVENT
BEGIN:VEVENT
DTSTART;TZID=America/New_York:20250929T153000
DTEND;TZID=America/New_York:20250929T170000
DTSTAMP:20260422T175043
CREATED:20250911T133519Z
LAST-MODIFIED:20260128T181441Z
UID:10000203-1759159800-1759165200@orlandoballet.org
SUMMARY:STEPS @ Kissimmee Elementary
DESCRIPTION:Fall Session: September 15th-December 1st (no class 10/13 & 11/24) \nSpring Session: January 26th- April 6th (no class 3/16)
URL:https://orlandoballet.org/event/steps-kissimmee-elementary/2025-09-29/
LOCATION:Community Enrichment\, United States
CATEGORIES:Community Programs
END:VEVENT
BEGIN:VEVENT
DTSTART;TZID=America/New_York:20250927T090000
DTEND;TZID=America/New_York:20250927T094500
DTSTAMP:20260422T175043
CREATED:20250911T133508Z
LAST-MODIFIED:20260128T181429Z
UID:10000921-1758963600-1758966300@orlandoballet.org
SUMMARY:Come Dance with Us! Ages 3-9 at HOBC
DESCRIPTION:This unique class provides training in creative dance\, ballet\, and jazz basics to children with various developmental\, behavioral\, and/or physical challenges. Each student is paired with a student mentor from the Orlando Ballet School for a more collaborative dance experience.  \nClass meets on Saturdays from 9:00-9:45am\, August 23rd-May 9th\nClass fee: $55 monthly. Tuition billed on the 15th of the month\, August-April\nShowcase Fee: $105\, fee will be posted upon enrollment and will be processed on November 1st. If you wish to opt out of the showcase\, please email registrar@orlandoballet.org.\nClass is located at HOBC\, 600 N Lake Formosa Dr. Orlando FL\, 32803.
URL:https://orlandoballet.org/event/come-dance-with-us-ages-3-9-at-hobc/2025-09-27/
LOCATION:Community Enrichment\, United States
CATEGORIES:Community Programs
END:VEVENT
BEGIN:VEVENT
DTSTART;TZID=America/New_York:20250926T153000
DTEND;TZID=America/New_York:20250926T170000
DTSTAMP:20260422T175043
CREATED:20250911T133521Z
LAST-MODIFIED:20260128T181441Z
UID:10000233-1758900600-1758906000@orlandoballet.org
SUMMARY:STEPS @ Sand Lake Elementary
DESCRIPTION:Fall Session: September 12th-November 14th \nSpring Session: January 30th-April 17th (no class March 13th or 20th)
URL:https://orlandoballet.org/event/steps-sand-lake-elementary/2025-09-26/
LOCATION:Community Enrichment\, United States
CATEGORIES:Community Programs
END:VEVENT
BEGIN:VEVENT
DTSTART;TZID=America/New_York:20250926T110000
DTEND;TZID=America/New_York:20250926T130000
DTSTAMP:20260422T175043
CREATED:20250911T133527Z
LAST-MODIFIED:20250911T143308Z
UID:10000194-1758884400-1758891600@orlandoballet.org
SUMMARY:REACH @ Horizon West Middle School
DESCRIPTION:7th & 8th Grade\nClasses will be on 9/19\, 9/26\, 9/29\, 10/3\, 10/6\, 10/10\, 10/17\, 10/20\, 10/24\, 10/27\, 10/31\, 11/3\, 11/7\, 11/10
URL:https://orlandoballet.org/event/reach-horizon-west-middle-school/2025-09-26/
LOCATION:Community Enrichment\, United States
CATEGORIES:Community Programs
END:VEVENT
BEGIN:VEVENT
DTSTART;TZID=America/New_York:20250925T163000
DTEND;TZID=America/New_York:20250925T171500
DTSTAMP:20260422T175043
CREATED:20250911T133515Z
LAST-MODIFIED:20250911T143308Z
UID:10000265-1758817800-1758820500@orlandoballet.org
SUMMARY:Come Dance with Us! @ UCP West Orange
DESCRIPTION:
URL:https://orlandoballet.org/event/come-dance-with-us-ucp-west-orange-2/2025-09-25/
LOCATION:Community Enrichment\, United States
CATEGORIES:Community Programs
END:VEVENT
BEGIN:VEVENT
DTSTART;TZID=America/New_York:20250925T154500
DTEND;TZID=America/New_York:20250925T163000
DTSTAMP:20260422T175043
CREATED:20250911T133515Z
LAST-MODIFIED:20250911T143308Z
UID:10000275-1758815100-1758817800@orlandoballet.org
SUMMARY:Come Dance with Us! @ UCP West Orange
DESCRIPTION:
URL:https://orlandoballet.org/event/come-dance-with-us-ucp-west-orange/2025-09-25/
LOCATION:Community Enrichment\, United States
CATEGORIES:Community Programs
END:VEVENT
BEGIN:VEVENT
DTSTART;TZID=America/New_York:20250925T153000
DTEND;TZID=America/New_York:20250925T170000
DTSTAMP:20260422T175043
CREATED:20250911T133520Z
LAST-MODIFIED:20260128T181441Z
UID:10000550-1758814200-1758819600@orlandoballet.org
SUMMARY:STEPS @ Maxey Elementary
DESCRIPTION:Fall Session- 9/4/25-11/6/25\nSpring Session- 1/29/16-4/9/26
URL:https://orlandoballet.org/event/steps-maxey-elementary/2025-09-25/
LOCATION:Community Enrichment\, United States
CATEGORIES:Community Programs
END:VEVENT
BEGIN:VEVENT
DTSTART;TZID=America/New_York:20250925T124500
DTEND;TZID=America/New_York:20250925T141500
DTSTAMP:20260422T175043
CREATED:20250911T133507Z
LAST-MODIFIED:20250911T143308Z
UID:10000285-1758804300-1758809700@orlandoballet.org
SUMMARY:STEPS @ Thomas Leadership Academy
DESCRIPTION:
URL:https://orlandoballet.org/event/steps-thomas-leadership-academy/2025-09-25/
LOCATION:Community Enrichment\, United States
CATEGORIES:Community Programs
END:VEVENT
BEGIN:VEVENT
DTSTART;TZID=America/New_York:20250924T160000
DTEND;TZID=America/New_York:20250924T173000
DTSTAMP:20260422T175043
CREATED:20250911T133521Z
LAST-MODIFIED:20260128T181441Z
UID:10000582-1758729600-1758735000@orlandoballet.org
SUMMARY:STEPS @ Wadeview Neighborhood Center
DESCRIPTION:Fall Session: September 3rd-November 5th\nSpring Session: January 28th-April 8th\, no class during spring break\nShowcase on April 26th\, at Harriett’s Orlando Ballet Centre
URL:https://orlandoballet.org/event/steps-wadeview-neighborhood-center/2025-09-24/
LOCATION:Community Enrichment\, United States
CATEGORIES:Community Programs
END:VEVENT
BEGIN:VEVENT
DTSTART;TZID=America/New_York:20250924T150000
DTEND;TZID=America/New_York:20250924T163000
DTSTAMP:20260422T175043
CREATED:20250911T133521Z
LAST-MODIFIED:20250911T143308Z
UID:10000299-1758726000-1758731400@orlandoballet.org
SUMMARY:STEPS @ Rock Lake Elementary
DESCRIPTION:No class the week of Thanksgiving
URL:https://orlandoballet.org/event/steps-rock-lake-elementary/2025-09-24/
LOCATION:Community Enrichment\, United States
CATEGORIES:Community Programs
END:VEVENT
BEGIN:VEVENT
DTSTART;TZID=America/New_York:20250924T150000
DTEND;TZID=America/New_York:20250924T163000
DTSTAMP:20260422T175043
CREATED:20250911T133519Z
LAST-MODIFIED:20260128T181440Z
UID:10000648-1758726000-1758731400@orlandoballet.org
SUMMARY:STEPS @ Colonialtown Neighborhood Center
DESCRIPTION:Fall Session: August 27th-October 29th\nSpring Session: January 28th-April 8th\, no class the week of spring break
URL:https://orlandoballet.org/event/steps-colonialtown-neighborhood-center/2025-09-24/
LOCATION:Community Enrichment\, United States
CATEGORIES:Community Programs
END:VEVENT
BEGIN:VEVENT
DTSTART;TZID=America/New_York:20250924T150000
DTEND;TZID=America/New_York:20250924T163000
DTSTAMP:20260422T175043
CREATED:20250911T133519Z
LAST-MODIFIED:20260128T181441Z
UID:10000614-1758726000-1758731400@orlandoballet.org
SUMMARY:STEPS @ Ivey Lane Neighborhood Center
DESCRIPTION:Fall: September 3rd-November 5th\nSpring: February 4th- April 15th\, no class the week of spring break (March 16th-20th) and final showcase at Harriett’s Orlando Ballet Centre on April 26th
URL:https://orlandoballet.org/event/steps-ivey-lane-neighborhood-center/2025-09-24/
LOCATION:Community Enrichment\, United States
CATEGORIES:Community Programs
END:VEVENT
BEGIN:VEVENT
DTSTART;TZID=America/New_York:20250924T143000
DTEND;TZID=America/New_York:20250924T160000
DTSTAMP:20260422T175043
CREATED:20250911T133522Z
LAST-MODIFIED:20250911T143308Z
UID:10000313-1758724200-1758729600@orlandoballet.org
SUMMARY:STEPS @ Whispering Oak Elementary
DESCRIPTION:No class during Thanksgiving Break
URL:https://orlandoballet.org/event/steps-whispering-oak-elementary/2025-09-24/
LOCATION:Community Enrichment\, United States
CATEGORIES:Community Programs
END:VEVENT
BEGIN:VEVENT
DTSTART;TZID=America/New_York:20250924T143000
DTEND;TZID=America/New_York:20250924T160000
DTSTAMP:20260422T175043
CREATED:20250911T133520Z
LAST-MODIFIED:20250911T143308Z
UID:10000327-1758724200-1758729600@orlandoballet.org
SUMMARY:STEPS @ Orlo Vista Elementary
DESCRIPTION:No class the week of Thanksgiving
URL:https://orlandoballet.org/event/steps-orlo-vista-elementary/2025-09-24/
LOCATION:Community Enrichment\, United States
CATEGORIES:Community Programs
END:VEVENT
BEGIN:VEVENT
DTSTART;TZID=America/New_York:20250924T143000
DTEND;TZID=America/New_York:20250924T160000
DTSTAMP:20260422T175043
CREATED:20250911T133518Z
LAST-MODIFIED:20250911T143309Z
UID:10000341-1758724200-1758729600@orlandoballet.org
SUMMARY:STEPS @ Aloma Elementary
DESCRIPTION:No class during Thanksgiving Break
URL:https://orlandoballet.org/event/steps-aloma-elementary/2025-09-24/
LOCATION:Community Enrichment\, United States
CATEGORIES:Community Programs
END:VEVENT
BEGIN:VEVENT
DTSTART;TZID=America/New_York:20250924T143000
DTEND;TZID=America/New_York:20250924T160000
DTSTAMP:20260422T175043
CREATED:20250911T133518Z
LAST-MODIFIED:20250911T143309Z
UID:10000355-1758724200-1758729600@orlandoballet.org
SUMMARY:STEPS @ Andover Elementary
DESCRIPTION:No class during Thanksgiving Break
URL:https://orlandoballet.org/event/steps-andover-elementary/2025-09-24/
LOCATION:Community Enrichment\, United States
CATEGORIES:Community Programs
END:VEVENT
BEGIN:VEVENT
DTSTART;TZID=America/New_York:20250924T100000
DTEND;TZID=America/New_York:20250924T113000
DTSTAMP:20260422T175043
CREATED:20250911T133518Z
LAST-MODIFIED:20260128T181440Z
UID:10000168-1758708000-1758713400@orlandoballet.org
SUMMARY:STEPS @ BHCFL
DESCRIPTION:Fall: Wednesdays 10:00am-11:30am\n9/17\, 9/24\, 10/1\, 10/8\, 10/15\, 10/22\, 11/5\, 11/12\, 11/19\, 12/3 \nSpring: Wednesdays 11:15am-12:45pm \n1/7\, 1/14\, 1/21\, 1/28\, 2/4\, 2/11\, 2/18\, 2/25\, 3/4\, 3/11\, Showcase on 3/14
URL:https://orlandoballet.org/event/steps-bhcfl/2025-09-24/
LOCATION:Community Enrichment\, United States
CATEGORIES:Community Programs
END:VEVENT
BEGIN:VEVENT
DTSTART;TZID=America/New_York:20250923T153000
DTEND;TZID=America/New_York:20250923T170000
DTSTAMP:20260422T175043
CREATED:20250911T133521Z
LAST-MODIFIED:20250911T143309Z
UID:10000369-1758641400-1758646800@orlandoballet.org
SUMMARY:STEPS @ Tildenville Elementary
DESCRIPTION:No class during Thanksgiving Break
URL:https://orlandoballet.org/event/steps-tildenville-elementary/2025-09-23/
LOCATION:Community Enrichment\, United States
CATEGORIES:Community Programs
END:VEVENT
BEGIN:VEVENT
DTSTART;TZID=America/New_York:20250923T153000
DTEND;TZID=America/New_York:20250923T170000
DTSTAMP:20260422T175043
CREATED:20250911T133519Z
LAST-MODIFIED:20260128T181441Z
UID:10000383-1758641400-1758646800@orlandoballet.org
SUMMARY:STEPS @ Endeavor Elementary
DESCRIPTION:Fall Session: September 9th-November 11th \nSpring Session: January 27th-April 7th (no class March 17th)
URL:https://orlandoballet.org/event/steps-endeavor-elementary/2025-09-23/
LOCATION:Community Enrichment\, United States
CATEGORIES:Community Programs
END:VEVENT
BEGIN:VEVENT
DTSTART;TZID=America/New_York:20250923T151500
DTEND;TZID=America/New_York:20250923T161500
DTSTAMP:20260422T175043
CREATED:20250911T133527Z
LAST-MODIFIED:20260128T181448Z
UID:10000414-1758640500-1758644100@orlandoballet.org
SUMMARY:REACH @ Lake Como School
DESCRIPTION:September 9th-December 11th (no class Thanksgiving break) & January 27th-April 30th (no class spring break)
URL:https://orlandoballet.org/event/reach-lake-como-school/2025-09-23/
LOCATION:Community Enrichment\, United States
CATEGORIES:Community Programs
END:VEVENT
BEGIN:VEVENT
DTSTART;TZID=America/New_York:20250923T133000
DTEND;TZID=America/New_York:20250923T143000
DTSTAMP:20260422T175043
CREATED:20250911T133529Z
LAST-MODIFIED:20250911T143309Z
UID:10000681-1758634200-1758637800@orlandoballet.org
SUMMARY:REACH @ Colonial HS
DESCRIPTION:
URL:https://orlandoballet.org/event/reach-colonial-hs/2025-09-23/
LOCATION:Community Enrichment\, United States
CATEGORIES:Community Programs
END:VEVENT
BEGIN:VEVENT
DTSTART;TZID=America/New_York:20250923T101200
DTEND;TZID=America/New_York:20250923T110200
DTSTAMP:20260422T175043
CREATED:20250911T133529Z
LAST-MODIFIED:20260128T181453Z
UID:10000448-1758622320-1758625320@orlandoballet.org
SUMMARY:Come Dance with Us! @ Windermere High School
DESCRIPTION:September 9th-November 11th and January 27th- April 7th (no class spring break)
URL:https://orlandoballet.org/event/come-dance-with-us-windermere-high-school/2025-09-23/
LOCATION:Community Enrichment\, United States
CATEGORIES:Community Programs
END:VEVENT
END:VCALENDAR