BEGIN:VCALENDAR
VERSION:2.0
PRODID:-//Orlando Ballet - ECPv6.15.3//NONSGML v1.0//EN
CALSCALE:GREGORIAN
METHOD:PUBLISH
X-ORIGINAL-URL:https://orlandoballet.org
X-WR-CALDESC:Events for Orlando Ballet
REFRESH-INTERVAL;VALUE=DURATION:PT1H
X-Robots-Tag:noindex
X-PUBLISHED-TTL:PT1H
BEGIN:VTIMEZONE
TZID:America/New_York
BEGIN:DAYLIGHT
TZOFFSETFROM:-0500
TZOFFSETTO:-0400
TZNAME:EDT
DTSTART:20250309T070000
END:DAYLIGHT
BEGIN:STANDARD
TZOFFSETFROM:-0400
TZOFFSETTO:-0500
TZNAME:EST
DTSTART:20251102T060000
END:STANDARD
END:VTIMEZONE
BEGIN:VEVENT
DTSTART;TZID=America/New_York:20251030T154500
DTEND;TZID=America/New_York:20251030T163000
DTSTAMP:20260421T045937
CREATED:20250911T133515Z
LAST-MODIFIED:20250911T143308Z
UID:10000280-1761839100-1761841800@orlandoballet.org
SUMMARY:Come Dance with Us! @ UCP West Orange
DESCRIPTION:
URL:https://orlandoballet.org/event/come-dance-with-us-ucp-west-orange/2025-10-30/
LOCATION:Community Enrichment\, United States
CATEGORIES:Community Programs
END:VEVENT
BEGIN:VEVENT
DTSTART;TZID=America/New_York:20251030T160000
DTEND;TZID=America/New_York:20251030T170000
DTSTAMP:20260421T045937
CREATED:20250911T133514Z
LAST-MODIFIED:20260128T181435Z
UID:10001115-1761840000-1761843600@orlandoballet.org
SUMMARY:Primary A-4 (Thurs\, 4pm)
DESCRIPTION:Registration Fee: $50 \nYearly Tuition: $1017 \n Showcase Fee: $215 \nTuition Payment Installment plan option: $113.00 \nInstallment plan charges 1st payment upon enrollment\, remaining payments the 1st of the month\, September-April. \n Due upon Enrollment (Registration Fee & 1st Tuition Installment): $163.00
URL:https://orlandoballet.org/event/primary-a-4-thurs-4pm/2025-10-30/
LOCATION:Harriett’s Orlando Ballet Centre\, 600 N Lake Formosa Dr\, Orlando\, FL\, 32803\, United States
CATEGORIES:School Programs
END:VEVENT
BEGIN:VEVENT
DTSTART;TZID=America/New_York:20251030T160000
DTEND;TZID=America/New_York:20251030T170000
DTSTAMP:20260421T045937
CREATED:20250911T133517Z
LAST-MODIFIED:20260128T181436Z
UID:10001077-1761840000-1761843600@orlandoballet.org
SUMMARY:Primary B-4 (Thurs\, 4pm)
DESCRIPTION:Registration Fee: $50 \nYearly Tuition: $1017 \n Showcase Fee: $215 \nTuition Payment Installment plan option: $113.00 \nInstallment plan charges 1st payment upon enrollment\, remaining payments the 1st of the month\, September-April. \n Due upon Enrollment (Registration Fee & 1st Tuition Installment): $163.00
URL:https://orlandoballet.org/event/primary-b-4-thurs-4pm/2025-10-30/
LOCATION:Harriett’s Orlando Ballet Centre\, 600 N Lake Formosa Dr\, Orlando\, FL\, 32803\, United States
CATEGORIES:School Programs
END:VEVENT
BEGIN:VEVENT
DTSTART;TZID=America/New_York:20251030T163000
DTEND;TZID=America/New_York:20251030T171500
DTSTAMP:20260421T045937
CREATED:20250911T133515Z
LAST-MODIFIED:20250911T143308Z
UID:10000270-1761841800-1761844500@orlandoballet.org
SUMMARY:Come Dance with Us! @ UCP West Orange
DESCRIPTION:
URL:https://orlandoballet.org/event/come-dance-with-us-ucp-west-orange-2/2025-10-30/
LOCATION:Community Enrichment\, United States
CATEGORIES:Community Programs
END:VEVENT
BEGIN:VEVENT
DTSTART;TZID=America/New_York:20251030T183000
DTEND;TZID=America/New_York:20251030T193000
DTSTAMP:20260421T045937
CREATED:20250911T133524Z
LAST-MODIFIED:20250911T143310Z
UID:10001039-1761849000-1761852600@orlandoballet.org
SUMMARY:Conditioning Elective Levels 2+
DESCRIPTION:A focused class designed to build strength\, flexibility\, and endurance specifically for dancers. Using exercises that target core stability\, alignment\, and injury prevention\, this class enhances overall performance and supports safe\, efficient movement. \nOpen to students OBS students in level’s 2B+\, Teen Ballet Program Students or Non-OBS students ages 10+ \n Youth Dance student yearly tuition: $998 + $50 Registration Fee\, or follows the hourly discount pending # of hours students are enrolled. \nOBS student yearly tuition: $645 (must be enrolled in a Preparatory Training Center/Academy ballet program)
URL:https://orlandoballet.org/event/conditioning-elective-levels-2-2/2025-10-30/
LOCATION:Harriett’s Orlando Ballet Centre\, 600 N Lake Formosa Dr\, Orlando\, FL\, 32803\, United States
CATEGORIES:School Programs
END:VEVENT
BEGIN:VEVENT
DTSTART;TZID=America/New_York:20251030T193000
DTEND;TZID=America/New_York:20251030T203000
DTSTAMP:20260421T045937
CREATED:20250911T133526Z
LAST-MODIFIED:20260128T181447Z
UID:10001001-1761852600-1761856200@orlandoballet.org
SUMMARY:Contemporary Elective Levels 2B+\, or Int/Adv ages 12+
DESCRIPTION:Explore expressive movement through a blend of modern\, ballet\, and jazz techniques. This class focuses on fluidity\, floor work\, musicality\, and emotional connection\, encouraging dancers to move with both freedom and control. \nOpen to students OBS students in level’s 3A+\, Non-OBS students ages 12+ with 2 years prior dance experience. \n Youth Dance student yearly tuition: $998 + $50 Registration Fee\, or follows the hourly discount pending # of hours students are enrolled. \nOBS student yearly tuition: $645 (must be enrolled in a Preparatory Training Center/Academy ballet program)
URL:https://orlandoballet.org/event/contemporary-elective-levels-2b-or-int-adv-ages-12/2025-10-30/
LOCATION:Harriett’s Orlando Ballet Centre\, 600 N Lake Formosa Dr\, Orlando\, FL\, 32803\, United States
CATEGORIES:School Programs
END:VEVENT
BEGIN:VEVENT
DTSTART;TZID=America/New_York:20251031T110000
DTEND;TZID=America/New_York:20251031T130000
DTSTAMP:20260421T045937
CREATED:20250911T133527Z
LAST-MODIFIED:20250911T143308Z
UID:10000199-1761908400-1761915600@orlandoballet.org
SUMMARY:REACH @ Horizon West Middle School
DESCRIPTION:7th & 8th Grade\nClasses will be on 9/19\, 9/26\, 9/29\, 10/3\, 10/6\, 10/10\, 10/17\, 10/20\, 10/24\, 10/27\, 10/31\, 11/3\, 11/7\, 11/10
URL:https://orlandoballet.org/event/reach-horizon-west-middle-school/2025-10-31/
LOCATION:Community Enrichment\, United States
CATEGORIES:Community Programs
END:VEVENT
BEGIN:VEVENT
DTSTART;TZID=America/New_York:20251031T153000
DTEND;TZID=America/New_York:20251031T170000
DTSTAMP:20260421T045937
CREATED:20250911T133521Z
LAST-MODIFIED:20260128T181441Z
UID:10000238-1761924600-1761930000@orlandoballet.org
SUMMARY:STEPS @ Sand Lake Elementary
DESCRIPTION:Fall Session: September 12th-November 14th \nSpring Session: January 30th-April 17th (no class March 13th or 20th)
URL:https://orlandoballet.org/event/steps-sand-lake-elementary/2025-10-31/
LOCATION:Community Enrichment\, United States
CATEGORIES:Community Programs
END:VEVENT
BEGIN:VEVENT
DTSTART;TZID=America/New_York:20251101T090000
DTEND;TZID=America/New_York:20251101T094500
DTSTAMP:20260421T045937
CREATED:20250911T133507Z
LAST-MODIFIED:20260128T181427Z
UID:10000964-1761987600-1761990300@orlandoballet.org
SUMMARY:Baby & Me (Sat\, 9am)
DESCRIPTION:One parent or guardian allowed in class with registered student. \n Registration Fee: $50 \nYearly Tuition: $997 \nTuition Payment Installment plan option: $105.22 \nInstallment plan charges 1st payment upon enrollment\, remaining payments the 1st of the month\, September-April. \n Due upon Enrollment (Registration Fee & 1st Tuition Installment): $155.22
URL:https://orlandoballet.org/event/baby-me-sat-9am/2025-11-01/
LOCATION:Harriett’s Orlando Ballet Centre\, 600 N Lake Formosa Dr\, Orlando\, FL\, 32803\, United States
CATEGORIES:School Programs
END:VEVENT
BEGIN:VEVENT
DTSTART;TZID=America/New_York:20251101T090000
DTEND;TZID=America/New_York:20251101T094500
DTSTAMP:20260421T045937
CREATED:20250911T133508Z
LAST-MODIFIED:20260128T181429Z
UID:10000926-1761987600-1761990300@orlandoballet.org
SUMMARY:Come Dance with Us! Ages 3-9 at HOBC
DESCRIPTION:This unique class provides training in creative dance\, ballet\, and jazz basics to children with various developmental\, behavioral\, and/or physical challenges. Each student is paired with a student mentor from the Orlando Ballet School for a more collaborative dance experience.  \nClass meets on Saturdays from 9:00-9:45am\, August 23rd-May 9th\nClass fee: $55 monthly. Tuition billed on the 15th of the month\, August-April\nShowcase Fee: $105\, fee will be posted upon enrollment and will be processed on November 1st. If you wish to opt out of the showcase\, please email registrar@orlandoballet.org.\nClass is located at HOBC\, 600 N Lake Formosa Dr. Orlando FL\, 32803.
URL:https://orlandoballet.org/event/come-dance-with-us-ages-3-9-at-hobc/2025-11-01/
LOCATION:Community Enrichment\, United States
CATEGORIES:Community Programs
END:VEVENT
BEGIN:VEVENT
DTSTART;TZID=America/New_York:20251101T090000
DTEND;TZID=America/New_York:20251101T094500
DTSTAMP:20260421T045937
CREATED:20250911T133508Z
LAST-MODIFIED:20250911T143309Z
UID:10000889-1761987600-1761990300@orlandoballet.org
SUMMARY:Pre-Primary 2.5 (Sat\, 9am)
DESCRIPTION:Registration Fee: $50 \nYearly Tuition: $997 \nTuition Payment Installment plan option: $105.22 \nInstallment plan charges 1st payment upon enrollment\, remaining payments the 1st of the month\, September-April. \n Due upon Enrollment (Registration Fee & 1st Tuition Installment): $155.22
URL:https://orlandoballet.org/event/pre-primary-2-5-sat-9am/2025-11-01/
LOCATION:Harriett’s Orlando Ballet Centre\, 600 N Lake Formosa Dr\, Orlando\, FL\, 32803\, United States
CATEGORIES:School Programs
END:VEVENT
BEGIN:VEVENT
DTSTART;TZID=America/New_York:20251101T094500
DTEND;TZID=America/New_York:20251101T103000
DTSTAMP:20260421T045937
CREATED:20250911T133509Z
LAST-MODIFIED:20250911T143309Z
UID:10000852-1761990300-1761993000@orlandoballet.org
SUMMARY:Pre-Primary 3 (Sat\, 9:45am)
DESCRIPTION:Registration Fee: $50 \nYearly Tuition: $997 \n Showcase Fee: $105 \nTuition Payment Installment plan option: $105.22 \nInstallment plan charges 1st payment upon enrollment\, remaining payments the 1st of the month\, September-April. \n Due upon Enrollment (Registration Fee & 1st Tuition Installment): $155.22
URL:https://orlandoballet.org/event/pre-primary-3-sat-945am/2025-11-01/
LOCATION:Harriett’s Orlando Ballet Centre\, 600 N Lake Formosa Dr\, Orlando\, FL\, 32803\, United States
CATEGORIES:School Programs
END:VEVENT
BEGIN:VEVENT
DTSTART;TZID=America/New_York:20251101T110000
DTEND;TZID=America/New_York:20251101T120000
DTSTAMP:20260421T045937
CREATED:20250911T133517Z
LAST-MODIFIED:20260128T181437Z
UID:10000814-1761994800-1761998400@orlandoballet.org
SUMMARY:Primary B-5 (Sat\, 11am)
DESCRIPTION:Registration Fee: $50 \nYearly Tuition: $1017 \n Showcase Fee: $215 \nTuition Payment Installment plan option: $113.00 \nInstallment plan charges 1st payment upon enrollment\, remaining payments the 1st of the month\, September-April. \n Due upon Enrollment (Registration Fee & 1st Tuition Installment): $163.00
URL:https://orlandoballet.org/event/primary-b-5-sat-11am/2025-11-01/
LOCATION:Harriett’s Orlando Ballet Centre\, 600 N Lake Formosa Dr\, Orlando\, FL\, 32803\, United States
CATEGORIES:School Programs
END:VEVENT
BEGIN:VEVENT
DTSTART;TZID=America/New_York:20251101T123000
DTEND;TZID=America/New_York:20251101T133000
DTSTAMP:20260421T045937
CREATED:20250911T133525Z
LAST-MODIFIED:20260128T181446Z
UID:10000776-1762000200-1762003800@orlandoballet.org
SUMMARY:Intermediate Jazz (ages 9+)
DESCRIPTION:This class introduces and establishes the basics of jazz technique. Students will learn steps\, exercises and choreography sequences to gain understanding of the style and technique of jazz dance. Jazz dance includes turns\, kicks and leaps along with flexibility and coordination. \nOpen to students OBS students in level’s 2A+\, or to the public ages 9+ with at least 1 year of ballet or jazz dance experience. \n Youth Dance student yearly tuition: $998 + $50 Registration Fee \nOBS student yearly tuition: $645 (must be enrolled in a Preparatory Training Center ballet program)
URL:https://orlandoballet.org/event/intermediate-jazz-ages-9/2025-11-01/
LOCATION:Harriett’s Orlando Ballet Centre\, 600 N Lake Formosa Dr\, Orlando\, FL\, 32803\, United States
CATEGORIES:School Programs
END:VEVENT
BEGIN:VEVENT
DTSTART;TZID=America/New_York:20251101T130000
DTEND;TZID=America/New_York:20251101T140000
DTSTAMP:20260421T045937
CREATED:20250911T133514Z
LAST-MODIFIED:20250911T143309Z
UID:10000738-1762002000-1762005600@orlandoballet.org
SUMMARY:Young Men's Dance Class (Ages 5+)
DESCRIPTION:Young Men will learn a variety dance styles in this “boys only” class\, including ballet\, jazz\, tumbling\, fitness and more! \n Open to students level Primary A+\, or Non-OBS students ages 5-10. \n Youth dance student yearly tuition: $998 + $50 Registration Fee \nOBS student yearly tuition: $645 (must be enrolled in a Preparatory Training Center ballet program)
URL:https://orlandoballet.org/event/young-mens-dance-class-ages-5/2025-11-01/
LOCATION:Harriett’s Orlando Ballet Centre\, 600 N Lake Formosa Dr\, Orlando\, FL\, 32803\, United States
CATEGORIES:School Programs
END:VEVENT
BEGIN:VEVENT
DTSTART;TZID=America/New_York:20251101T133000
DTEND;TZID=America/New_York:20251101T143000
DTSTAMP:20260421T045937
CREATED:20250911T133525Z
LAST-MODIFIED:20260128T181447Z
UID:10000700-1762003800-1762007400@orlandoballet.org
SUMMARY:Intermediate Tap (ages 9+)
DESCRIPTION:Students will learn the intermediate to advanced steps and exercises in tap dancing to develop coordination\, tap vocabulary\, rhythm and musical timing. This popular style of dance is used in many broadway shows and commercial events today! \nOpen to students OBS students in level’s 2A+\, or to the public ages 9+ with at least 1 year of tap dance experience. \n Youth Dance student yearly tuition: $998 + $50 Registration Fee \nOBS student yearly tuition: $645 (must be enrolled in a Preparatory Training Center ballet program)
URL:https://orlandoballet.org/event/intermediate-tap-ages-9/2025-11-01/
LOCATION:Harriett’s Orlando Ballet Centre\, 600 N Lake Formosa Dr\, Orlando\, FL\, 32803\, United States
CATEGORIES:School Programs
END:VEVENT
BEGIN:VEVENT
DTSTART;TZID=America/New_York:20251103T090000
DTEND;TZID=America/New_York:20251103T094500
DTSTAMP:20260421T045937
CREATED:20250911T133507Z
LAST-MODIFIED:20260128T181427Z
UID:10001910-1762160400-1762163100@orlandoballet.org
SUMMARY:Baby & Me (Mon\, 9am)
DESCRIPTION:One parent or guardian allowed in class with registered student. \n Registration Fee: $50 \nYearly Tuition: $997 \nTuition Payment Installment plan option: $105.22 \nInstallment plan charges 1st payment upon enrollment\, remaining payments the 1st of the month\, September-April. \n Due upon Enrollment (Registration Fee & 1st Tuition Installment): $155.22
URL:https://orlandoballet.org/event/baby-me-mon-9am/2025-11-03/
LOCATION:Harriett’s Orlando Ballet Centre\, 600 N Lake Formosa Dr\, Orlando\, FL\, 32803\, United States
CATEGORIES:School Programs
END:VEVENT
BEGIN:VEVENT
DTSTART;TZID=America/New_York:20251103T094500
DTEND;TZID=America/New_York:20251103T103000
DTSTAMP:20260421T045937
CREATED:20250911T133509Z
LAST-MODIFIED:20260128T181431Z
UID:10001836-1762163100-1762165800@orlandoballet.org
SUMMARY:Pre-Primary 3 (Mon 9:45am)
DESCRIPTION:Registration Fee: $50 \nYearly Tuition: $997 \n Showcase Fee: $105 \nTuition Payment Installment plan option: $105.22 \nInstallment plan charges 1st payment upon enrollment\, remaining payments the 1st of the month\, September-April. \n Due upon Enrollment (Registration Fee & 1st Tuition Installment): $155.22
URL:https://orlandoballet.org/event/pre-primary-3-mon-945am/2025-11-03/
LOCATION:Harriett’s Orlando Ballet Centre\, 600 N Lake Formosa Dr\, Orlando\, FL\, 32803\, United States
CATEGORIES:School Programs
END:VEVENT
BEGIN:VEVENT
DTSTART;TZID=America/New_York:20251103T153000
DTEND;TZID=America/New_York:20251103T170000
DTSTAMP:20260421T045937
CREATED:20250911T133519Z
LAST-MODIFIED:20260128T181441Z
UID:10000208-1762183800-1762189200@orlandoballet.org
SUMMARY:STEPS @ Kissimmee Elementary
DESCRIPTION:Fall Session: September 15th-December 1st (no class 10/13 & 11/24) \nSpring Session: January 26th- April 6th (no class 3/16)
URL:https://orlandoballet.org/event/steps-kissimmee-elementary/2025-11-03/
LOCATION:Community Enrichment\, United States
CATEGORIES:Community Programs
END:VEVENT
BEGIN:VEVENT
DTSTART;TZID=America/New_York:20251103T153000
DTEND;TZID=America/New_York:20251103T170000
DTSTAMP:20260421T045937
CREATED:20250911T133521Z
LAST-MODIFIED:20250911T143309Z
UID:10000540-1762183800-1762189200@orlandoballet.org
SUMMARY:STEPS @ Waterbridge Elementary
DESCRIPTION:No class October 13th or November 24th
URL:https://orlandoballet.org/event/steps-waterbridge-elementary/2025-11-03/
LOCATION:Community Enrichment\, United States
CATEGORIES:Community Programs
END:VEVENT
BEGIN:VEVENT
DTSTART;TZID=America/New_York:20251103T154500
DTEND;TZID=America/New_York:20251103T171500
DTSTAMP:20260421T045937
CREATED:20250911T133520Z
LAST-MODIFIED:20260128T181441Z
UID:10000143-1762184700-1762190100@orlandoballet.org
SUMMARY:STEPS @ Lake Como School
DESCRIPTION:Fall Session: September 8th-November 17th (no class October 13th)\nSpring Session: January 26th-April 13th  (no class February 16th or March 16th)
URL:https://orlandoballet.org/event/steps-lake-como-school/2025-11-03/
LOCATION:Community Enrichment\, United States
CATEGORIES:Community Programs
END:VEVENT
BEGIN:VEVENT
DTSTART;TZID=America/New_York:20251103T160000
DTEND;TZID=America/New_York:20251103T164500
DTSTAMP:20260421T045937
CREATED:20250911T133509Z
LAST-MODIFIED:20260128T181431Z
UID:10001873-1762185600-1762188300@orlandoballet.org
SUMMARY:Pre-Primary 3 (Mon\, 4pm)
DESCRIPTION:Registration Fee: $50 \nYearly Tuition: $997 \n Showcase Fee: $105 \nTuition Payment Installment plan option: $105.22 \nInstallment plan charges 1st payment upon enrollment\, remaining payments the 1st of the month\, September-April. \n Due upon Enrollment (Registration Fee & 1st Tuition Installment): $155.22
URL:https://orlandoballet.org/event/pre-primary-3-mon-4pm/2025-11-03/
LOCATION:Harriett’s Orlando Ballet Centre\, 600 N Lake Formosa Dr\, Orlando\, FL\, 32803\, United States
CATEGORIES:School Programs
END:VEVENT
BEGIN:VEVENT
DTSTART;TZID=America/New_York:20251103T160000
DTEND;TZID=America/New_York:20251103T164500
DTSTAMP:20260421T045937
CREATED:20250911T133513Z
LAST-MODIFIED:20260128T181434Z
UID:10001798-1762185600-1762188300@orlandoballet.org
SUMMARY:Beginner Jazz (ages 5-7)
DESCRIPTION:Students will learn traditional steps such as turns\, leaps and kicks along with choreography sequences to gain understanding of the style and technique of jazz dance. Any OBS Primary A and Primary B level student can enroll to join this class\, and any Non-OBS students age 5-7. \n Youth Dance student yearly tuition: $998 + $50 Registration Fee \nOBS student yearly tuition: $645 (must be enrolled in a Preparatory Training Center ballet program)
URL:https://orlandoballet.org/event/beginner-jazz-ages-5-7/2025-11-03/
LOCATION:Harriett’s Orlando Ballet Centre\, 600 N Lake Formosa Dr\, Orlando\, FL\, 32803\, United States
CATEGORIES:School Programs
END:VEVENT
BEGIN:VEVENT
DTSTART;TZID=America/New_York:20251103T160000
DTEND;TZID=America/New_York:20251103T170000
DTSTAMP:20260421T045937
CREATED:20250911T133511Z
LAST-MODIFIED:20260128T181432Z
UID:10001760-1762185600-1762189200@orlandoballet.org
SUMMARY:Pre-Primary 4 (Mon\, 4:00pm)
DESCRIPTION:Registration Fee: $50 \nYearly Tuition: $1017 \n Showcase Fee: $215 \nTuition Payment Installment plan option: $113.00 \nInstallment plan charges 1st payment upon enrollment\, remaining payments the 1st of the month\, September-April. \n Due upon Enrollment (Registration Fee & 1st Tuition Installment): $163.00
URL:https://orlandoballet.org/event/pre-primary-4-mon-400pm/2025-11-03/
LOCATION:Harriett’s Orlando Ballet Centre\, 600 N Lake Formosa Dr\, Orlando\, FL\, 32803\, United States
CATEGORIES:School Programs
END:VEVENT
BEGIN:VEVENT
DTSTART;TZID=America/New_York:20251103T160000
DTEND;TZID=America/New_York:20251103T170000
DTSTAMP:20260421T045937
CREATED:20250911T133522Z
LAST-MODIFIED:20260128T181444Z
UID:10001722-1762185600-1762189200@orlandoballet.org
SUMMARY:Beginner Tap (Mon\, 4pm)
DESCRIPTION:Students will learn the beginning steps and exercises in tap dancing to develop coordination\, tap vocabulary\, rhythm and musical timing. This popular style of dance is used in many broadway shows and commercial events today! \n Open to students level 1A+\, or Non-OBS students ages 8+. \n Youth dance student yearly tuition: $998 + $50 Registration Fee \nOBS student yearly tuition: $645 (must be enrolled in a Preparatory Training Center ballet program)
URL:https://orlandoballet.org/event/beginner-tap-mon-4pm/2025-11-03/
LOCATION:Harriett’s Orlando Ballet Centre\, 600 N Lake Formosa Dr\, Orlando\, FL\, 32803\, United States
CATEGORIES:School Programs
END:VEVENT
BEGIN:VEVENT
DTSTART;TZID=America/New_York:20251103T160000
DTEND;TZID=America/New_York:20251103T173000
DTSTAMP:20260421T045937
CREATED:20250911T133520Z
LAST-MODIFIED:20250911T143309Z
UID:10000525-1762185600-1762191000@orlandoballet.org
SUMMARY:STEPS @ Mollie Ray Elementary School
DESCRIPTION:No class on September 1st\, October 13th\, or November 24th
URL:https://orlandoballet.org/event/steps-mollie-ray-elementary-school/2025-11-03/
LOCATION:Community Enrichment\, United States
CATEGORIES:Community Programs
END:VEVENT
BEGIN:VEVENT
DTSTART;TZID=America/New_York:20251103T163000
DTEND;TZID=America/New_York:20251103T180000
DTSTAMP:20260421T045937
CREATED:20250911T133527Z
LAST-MODIFIED:20260128T181448Z
UID:10000495-1762187400-1762192800@orlandoballet.org
SUMMARY:REACH @ Robinswood Middle School
DESCRIPTION:CLASS DATES: Fall Session: September 8th-November 13th\, no class 10/13 or 10/16\n	Spring Session: January 12th-April 2nd\, no classes 1/19 & 1/22\, 2/16 & 2/19\, or spring break (3/16-3/20)\nCLASS TIME: Mondays & Thursdays\, 4:30pm-6:00pm; alternating ballet & an elective class (jazz\, contemporary\, etc)
URL:https://orlandoballet.org/event/reach-robinswood-middle-school/2025-11-03/
LOCATION:Community Enrichment\, United States
CATEGORIES:Community Programs
END:VEVENT
BEGIN:VEVENT
DTSTART;TZID=America/New_York:20251103T170000
DTEND;TZID=America/New_York:20251103T180000
DTSTAMP:20260421T045937
CREATED:20250911T133515Z
LAST-MODIFIED:20260128T181436Z
UID:10001684-1762189200-1762192800@orlandoballet.org
SUMMARY:Primary B-1 (Mon\, 5pm)
DESCRIPTION:Registration Fee: $50 \nYearly Tuition: $1017 \n Showcase Fee: $215 \nTuition Payment Installment plan option: $113.00 \nInstallment plan charges 1st payment upon enrollment\, remaining payments the 1st of the month\, September-April. \n Due upon Enrollment (Registration Fee & 1st Tuition Installment): $163.00
URL:https://orlandoballet.org/event/primary-b-1-mon-5pm/2025-11-03/
LOCATION:Harriett’s Orlando Ballet Centre\, 600 N Lake Formosa Dr\, Orlando\, FL\, 32803\, United States
CATEGORIES:School Programs
END:VEVENT
BEGIN:VEVENT
DTSTART;TZID=America/New_York:20251103T180000
DTEND;TZID=America/New_York:20251103T184500
DTSTAMP:20260421T045937
CREATED:20250911T133526Z
LAST-MODIFIED:20250911T143309Z
UID:10000485-1762192800-1762195500@orlandoballet.org
SUMMARY:Come Dance with Us! Ages 10-16 (Fall) at HOBC
DESCRIPTION:This unique class provides training in creative dance\, ballet\, and jazz basics to children with various developmental\, behavioral\, and/or physical challenges. Each student is paired with a student mentor from the Orlando Ballet School for a more collaborative dance experience.  \nClass meets on Mondays\, September 8th-November 10th\,  6-6:45pm\nClass fee: $135 per semester\nClass is located at HOBC\, 600 N Lake Formosa Dr. Orlando FL\, 32803.
URL:https://orlandoballet.org/event/come-dance-with-us-ages-10-16-fall-at-hobc/2025-11-03/
LOCATION:Community Enrichment\, United States
CATEGORIES:Community Programs
END:VEVENT
BEGIN:VEVENT
DTSTART;TZID=America/New_York:20251103T180000
DTEND;TZID=America/New_York:20251103T190000
DTSTAMP:20260421T045937
CREATED:20250911T133518Z
LAST-MODIFIED:20260128T181439Z
UID:10001646-1762192800-1762196400@orlandoballet.org
SUMMARY:Pre-Teen Ballet ages 7-10
DESCRIPTION:Students will explore the fundamentals of ballet\, focusing on building strength\, flexibility\, and coordination through basic movements and positions. With an emphasis on creativity and musicality\, dancers will develop body awareness\, balance\, and rhythm in a positive and encouraging environment. Perfect for young students eager to learn the foundations of ballet while having fun \nNo placement or previous experience required\, students can enroll at anytime\, open to ages 7-10.  \nRegistration Fee: $50
URL:https://orlandoballet.org/event/pre-teen-ballet-ages-7-10/2025-11-03/
LOCATION:Harriett’s Orlando Ballet Centre\, 600 N Lake Formosa Dr\, Orlando\, FL\, 32803\, United States
CATEGORIES:School Programs
END:VEVENT
END:VCALENDAR